Package: MSstatsLiP Version: 1.13.0 Command: /home/biocbuild/bbs-3.21-bioc/R/bin/R CMD build --keep-empty-dirs --no-resave-data MSstatsLiP StartedAt: 2025-02-04 18:17:32 -0500 (Tue, 04 Feb 2025) EndedAt: 2025-02-04 18:18:21 -0500 (Tue, 04 Feb 2025) EllapsedTime: 49.1 seconds RetCode: 0 Status: OK PackageFile: MSstatsLiP_1.13.0.tar.gz PackageFileSize: 1.884 MiB