Package: MSstatsPTM Version: 2.9.1 Command: /home/biocbuild/R/R/bin/R CMD build --keep-empty-dirs --no-resave-data MSstatsPTM StartedAt: 2025-01-29 00:42:42 -0000 (Wed, 29 Jan 2025) EndedAt: 2025-01-29 00:44:29 -0000 (Wed, 29 Jan 2025) EllapsedTime: 107.1 seconds RetCode: 0 Status: OK PackageFile: MSstatsPTM_2.9.1.tar.gz PackageFileSize: 1.77 MiB