Package: MSstatsPTM Version: 2.9.1 Command: /Library/Frameworks/R.framework/Resources/bin/R CMD INSTALL MSstatsPTM StartedAt: 2025-02-04 15:36:02 -0500 (Tue, 04 Feb 2025) EndedAt: 2025-02-04 15:36:38 -0500 (Tue, 04 Feb 2025) EllapsedTime: 35.4 seconds RetCode: 0 Status: OK