Package: MSstatsPTM Version: 2.9.1 Command: /home/biocbuild/bbs-3.21-bioc/R/bin/R CMD check --install=check:MSstatsPTM.install-out.txt --library=/home/biocbuild/bbs-3.21-bioc/R/site-library --timings MSstatsPTM_2.9.1.tar.gz StartedAt: 2025-02-05 00:42:05 -0500 (Wed, 05 Feb 2025) EndedAt: 2025-02-05 00:46:34 -0500 (Wed, 05 Feb 2025) EllapsedTime: 268.3 seconds RetCode: 0 Status: OK CheckDir: MSstatsPTM.Rcheck Warnings: 0