Package: MSstatsPTM Version: 2.9.1 Command: chmod a+r MSstatsPTM -R && E:\biocbuild\bbs-3.21-bioc\R\bin\R.exe CMD build --keep-empty-dirs --no-resave-data MSstatsPTM StartedAt: 2025-02-12 20:17:18 -0500 (Wed, 12 Feb 2025) EndedAt: 2025-02-12 20:20:04 -0500 (Wed, 12 Feb 2025) EllapsedTime: 165.7 seconds RetCode: 0 Status: OK PackageFile: MSstatsPTM_2.9.1.tar.gz PackageFileSize: 1.545 MiB