Package: MSstatsPTM Version: 2.9.1 Command: E:\biocbuild\bbs-3.21-bioc\R\bin\R.exe CMD INSTALL MSstatsPTM StartedAt: 2025-02-09 16:01:32 -0500 (Sun, 09 Feb 2025) EndedAt: 2025-02-09 16:03:29 -0500 (Sun, 09 Feb 2025) EllapsedTime: 116.9 seconds RetCode: 0 Status: OK