Package: MSstatsQC Version: 2.25.0 Command: /Library/Frameworks/R.framework/Resources/bin/R CMD build --keep-empty-dirs --no-resave-data MSstatsQC StartedAt: 2025-02-04 17:04:35 -0500 (Tue, 04 Feb 2025) EndedAt: 2025-02-04 17:05:04 -0500 (Tue, 04 Feb 2025) EllapsedTime: 28.4 seconds RetCode: 0 Status: OK PackageFile: MSstatsQC_2.25.0.tar.gz PackageFileSize: 2.295 MiB