Package: MSstatsQC Version: 2.25.0 Command: /home/biocbuild/R/R/bin/R CMD INSTALL MSstatsQC StartedAt: 2025-01-29 20:13:20 -0000 (Wed, 29 Jan 2025) EndedAt: 2025-01-29 20:14:11 -0000 (Wed, 29 Jan 2025) EllapsedTime: 51.0 seconds RetCode: 0 Status: OK