Package: MSstatsQC Version: 2.25.0 Command: rm -rf MSstatsQC.buildbin-libdir && mkdir MSstatsQC.buildbin-libdir && /Users/biocbuild/BBS/utils/build-universal.sh MSstatsQC_2.25.0.tar.gz /Library/Frameworks/R.framework/Resources/bin/R MSstatsQC.buildbin-libdir StartedAt: 2025-02-05 00:51:04 -0500 (Wed, 05 Feb 2025) EndedAt: 2025-02-05 00:51:57 -0500 (Wed, 05 Feb 2025) EllapsedTime: 52.8 seconds RetCode: 0 Status: OK PackageFile: MSstatsQC_2.25.0.tgz PackageFileSize: 2.367 MiB