Package: MSstatsQC Version: 2.25.0 Command: /Library/Frameworks/R.framework/Resources/bin/R CMD check --install=check:MSstatsQC.install-out.txt --library=/Library/Frameworks/R.framework/Resources/library --no-vignettes --timings MSstatsQC_2.25.0.tar.gz StartedAt: 2025-02-04 21:55:33 -0500 (Tue, 04 Feb 2025) EndedAt: 2025-02-04 22:00:31 -0500 (Tue, 04 Feb 2025) EllapsedTime: 298.7 seconds RetCode: 0 Status: OK CheckDir: MSstatsQC.Rcheck Warnings: 0