Package: MSstatsQC Version: 2.25.0 Command: /Library/Frameworks/R.framework/Resources/bin/R CMD INSTALL MSstatsQC StartedAt: 2025-02-04 15:29:24 -0500 (Tue, 04 Feb 2025) EndedAt: 2025-02-04 15:30:14 -0500 (Tue, 04 Feb 2025) EllapsedTime: 49.9 seconds RetCode: 0 Status: OK