Package: MSstatsQC Version: 2.25.0 Command: /home/biocbuild/bbs-3.21-bioc/R/bin/R CMD build --keep-empty-dirs --no-resave-data MSstatsQC StartedAt: 2025-02-04 18:17:40 -0500 (Tue, 04 Feb 2025) EndedAt: 2025-02-04 18:18:50 -0500 (Tue, 04 Feb 2025) EllapsedTime: 70.1 seconds RetCode: 0 Status: OK PackageFile: MSstatsQC_2.25.0.tar.gz PackageFileSize: 2.189 MiB