Package: MSstatsQC Version: 2.25.0 Command: /home/biocbuild/bbs-3.21-bioc/R/bin/R CMD check --install=check:MSstatsQC.install-out.txt --library=/home/biocbuild/bbs-3.21-bioc/R/site-library --timings MSstatsQC_2.25.0.tar.gz StartedAt: 2025-02-05 00:42:07 -0500 (Wed, 05 Feb 2025) EndedAt: 2025-02-05 00:47:21 -0500 (Wed, 05 Feb 2025) EllapsedTime: 313.4 seconds RetCode: 0 Status: OK CheckDir: MSstatsQC.Rcheck Warnings: 0