Package: MSstatsQC Version: 2.25.0 Command: chmod a+r MSstatsQC -R && E:\biocbuild\bbs-3.21-bioc\R\bin\R.exe CMD build --keep-empty-dirs --no-resave-data MSstatsQC StartedAt: 2025-02-04 20:14:04 -0500 (Tue, 04 Feb 2025) EndedAt: 2025-02-04 20:16:20 -0500 (Tue, 04 Feb 2025) EllapsedTime: 135.0 seconds RetCode: 0 Status: OK PackageFile: MSstatsQC_2.25.0.tar.gz PackageFileSize: 1.421 MiB