Package: MSstatsQCgui Version: 1.27.0 Command: /Library/Frameworks/R.framework/Resources/bin/R CMD build --keep-empty-dirs --no-resave-data MSstatsQCgui StartedAt: 2025-02-10 17:04:00 -0500 (Mon, 10 Feb 2025) EndedAt: 2025-02-10 17:04:16 -0500 (Mon, 10 Feb 2025) EllapsedTime: 16.2 seconds RetCode: 0 Status: OK PackageFile: MSstatsQCgui_1.27.0.tar.gz PackageFileSize: 75.36 KiB