Package: MSstatsQCgui Version: 1.27.0 Command: /Library/Frameworks/R.framework/Resources/bin/R CMD INSTALL MSstatsQCgui StartedAt: 2025-02-05 15:18:47 -0500 (Wed, 05 Feb 2025) EndedAt: 2025-02-05 15:19:01 -0500 (Wed, 05 Feb 2025) EllapsedTime: 14.1 seconds RetCode: 0 Status: OK