Package: MSstatsQCgui Version: 1.27.0 Command: /home/biocbuild/R/R/bin/R CMD INSTALL MSstatsQCgui StartedAt: 2025-01-29 20:14:11 -0000 (Wed, 29 Jan 2025) EndedAt: 2025-01-29 20:15:01 -0000 (Wed, 29 Jan 2025) EllapsedTime: 49.5 seconds RetCode: 0 Status: OK