Package: MSstatsQCgui Version: 1.27.0 Command: rm -rf MSstatsQCgui.buildbin-libdir && mkdir MSstatsQCgui.buildbin-libdir && /Users/biocbuild/BBS/utils/build-universal.sh MSstatsQCgui_1.27.0.tar.gz /Library/Frameworks/R.framework/Resources/bin/R MSstatsQCgui.buildbin-libdir StartedAt: 2025-02-06 00:41:30 -0500 (Thu, 06 Feb 2025) EndedAt: 2025-02-06 00:42:21 -0500 (Thu, 06 Feb 2025) EllapsedTime: 50.6 seconds RetCode: 0 Status: OK PackageFile: MSstatsQCgui_1.27.0.tgz PackageFileSize: 85.33 KiB