Package: MSstatsQCgui Version: 1.27.0 Command: /Library/Frameworks/R.framework/Resources/bin/R CMD check --install=check:MSstatsQCgui.install-out.txt --library=/Library/Frameworks/R.framework/Resources/library --no-vignettes --timings MSstatsQCgui_1.27.0.tar.gz StartedAt: 2025-02-05 21:54:36 -0500 (Wed, 05 Feb 2025) EndedAt: 2025-02-05 21:59:02 -0500 (Wed, 05 Feb 2025) EllapsedTime: 266.3 seconds RetCode: 0 Status: OK CheckDir: MSstatsQCgui.Rcheck Warnings: 0