Package: MSstatsQCgui Version: 1.27.0 Command: /Library/Frameworks/R.framework/Resources/bin/R CMD INSTALL MSstatsQCgui StartedAt: 2025-02-05 15:30:08 -0500 (Wed, 05 Feb 2025) EndedAt: 2025-02-05 15:30:56 -0500 (Wed, 05 Feb 2025) EllapsedTime: 47.4 seconds RetCode: 0 Status: OK