Package: MSstatsQCgui Version: 1.27.0 Command: /home/biocbuild/bbs-3.21-bioc/R/bin/R CMD build --keep-empty-dirs --no-resave-data MSstatsQCgui StartedAt: 2025-02-05 18:20:23 -0500 (Wed, 05 Feb 2025) EndedAt: 2025-02-05 18:21:00 -0500 (Wed, 05 Feb 2025) EllapsedTime: 37.0 seconds RetCode: 0 Status: OK PackageFile: MSstatsQCgui_1.27.0.tar.gz PackageFileSize: 75.48 KiB