Package: MSstatsQCgui Version: 1.27.0 Command: /home/biocbuild/bbs-3.21-bioc/R/bin/R CMD INSTALL MSstatsQCgui StartedAt: 2025-02-05 15:36:15 -0500 (Wed, 05 Feb 2025) EndedAt: 2025-02-05 15:36:50 -0500 (Wed, 05 Feb 2025) EllapsedTime: 34.6 seconds RetCode: 0 Status: OK