Package: MSstatsQCgui Version: 1.27.0 Command: rm -rf MSstatsQCgui.buildbin-libdir && mkdir MSstatsQCgui.buildbin-libdir && E:\biocbuild\bbs-3.21-bioc\R\bin\R.exe CMD INSTALL --build --library=MSstatsQCgui.buildbin-libdir MSstatsQCgui_1.27.0.tar.gz StartedAt: 2025-02-06 08:33:18 -0500 (Thu, 06 Feb 2025) EndedAt: 2025-02-06 08:34:05 -0500 (Thu, 06 Feb 2025) EllapsedTime: 47.7 seconds RetCode: 0 Status: OK PackageFile: MSstatsQCgui_1.27.0.zip PackageFileSize: 93 KiB