Package: MSstatsQCgui Version: 1.27.0 Command: chmod a+r MSstatsQCgui -R && E:\biocbuild\bbs-3.21-bioc\R\bin\R.exe CMD build --keep-empty-dirs --no-resave-data MSstatsQCgui StartedAt: 2025-02-10 20:24:05 -0500 (Mon, 10 Feb 2025) EndedAt: 2025-02-10 20:24:52 -0500 (Mon, 10 Feb 2025) EllapsedTime: 47.4 seconds RetCode: 0 Status: OK PackageFile: MSstatsQCgui_1.27.0.tar.gz PackageFileSize: 75.42 KiB