Package: MSstatsQCgui Version: 1.27.0 Command: E:\biocbuild\bbs-3.21-bioc\R\bin\R.exe CMD check --no-multiarch --install=check:MSstatsQCgui.install-out.txt --library=E:\biocbuild\bbs-3.21-bioc\R\library --no-vignettes --timings MSstatsQCgui_1.27.0.tar.gz StartedAt: 2025-02-06 03:53:06 -0500 (Thu, 06 Feb 2025) EndedAt: 2025-02-06 03:57:52 -0500 (Thu, 06 Feb 2025) EllapsedTime: 286.0 seconds RetCode: 0 Status: OK CheckDir: MSstatsQCgui.Rcheck Warnings: 0