Package: MVCClass Version: 1.81.0 Command: rm -rf MVCClass.buildbin-libdir && mkdir MVCClass.buildbin-libdir && /Users/biocbuild/BBS/utils/build-universal.sh MVCClass_1.81.0.tar.gz /Library/Frameworks/R.framework/Resources/bin/R MVCClass.buildbin-libdir StartedAt: 2025-02-12 22:28:19 -0500 (Wed, 12 Feb 2025) EndedAt: 2025-02-12 22:28:21 -0500 (Wed, 12 Feb 2025) EllapsedTime: 2.0 seconds RetCode: 0 Status: OK PackageFile: MVCClass_1.81.0.tgz PackageFileSize: 1.229 MiB