Package: MVCClass Version: 1.81.0 Command: /Library/Frameworks/R.framework/Resources/bin/R CMD INSTALL MVCClass StartedAt: 2025-02-09 15:01:04 -0500 (Sun, 09 Feb 2025) EndedAt: 2025-02-09 15:01:10 -0500 (Sun, 09 Feb 2025) EllapsedTime: 6.0 seconds RetCode: 0 Status: OK