Package: MVCClass Version: 1.81.0 Command: rm -rf MVCClass.buildbin-libdir && mkdir MVCClass.buildbin-libdir && /Users/biocbuild/BBS/utils/build-universal.sh MVCClass_1.81.0.tar.gz /Library/Frameworks/R.framework/Resources/bin/R MVCClass.buildbin-libdir StartedAt: 2025-02-10 01:05:25 -0500 (Mon, 10 Feb 2025) EndedAt: 2025-02-10 01:05:33 -0500 (Mon, 10 Feb 2025) EllapsedTime: 8.1 seconds RetCode: 0 Status: OK PackageFile: MVCClass_1.81.0.tgz PackageFileSize: 1.228 MiB