Package: MVCClass Version: 1.81.0 Command: /Library/Frameworks/R.framework/Resources/bin/R CMD INSTALL MVCClass StartedAt: 2025-02-09 15:03:37 -0500 (Sun, 09 Feb 2025) EndedAt: 2025-02-09 15:04:09 -0500 (Sun, 09 Feb 2025) EllapsedTime: 32.4 seconds RetCode: 0 Status: OK