Package: MVCClass Version: 1.81.0 Command: /home/biocbuild/bbs-3.21-bioc/R/bin/R CMD INSTALL MVCClass StartedAt: 2025-02-09 15:06:03 -0500 (Sun, 09 Feb 2025) EndedAt: 2025-02-09 15:06:19 -0500 (Sun, 09 Feb 2025) EllapsedTime: 16.3 seconds RetCode: 0 Status: OK