Package: MVCClass Version: 1.81.0 Command: E:\biocbuild\bbs-3.21-bioc\R\bin\R.exe CMD INSTALL MVCClass StartedAt: 2025-02-09 15:19:16 -0500 (Sun, 09 Feb 2025) EndedAt: 2025-02-09 15:20:09 -0500 (Sun, 09 Feb 2025) EllapsedTime: 53.5 seconds RetCode: 0 Status: OK