Package: MWASTools Version: 1.31.0 Command: rm -rf MWASTools.buildbin-libdir && mkdir MWASTools.buildbin-libdir && /Users/biocbuild/BBS/utils/build-universal.sh MWASTools_1.31.0.tar.gz /Library/Frameworks/R.framework/Resources/bin/R MWASTools.buildbin-libdir StartedAt: 2025-02-09 22:23:10 -0500 (Sun, 09 Feb 2025) EndedAt: 2025-02-09 22:23:24 -0500 (Sun, 09 Feb 2025) EllapsedTime: 14.2 seconds RetCode: 0 Status: OK PackageFile: MWASTools_1.31.0.tgz PackageFileSize: 2.103 MiB