Package: MWASTools Version: 1.31.0 Command: /home/biocbuild/R/R/bin/R CMD INSTALL MWASTools StartedAt: 2025-01-29 20:18:41 -0000 (Wed, 29 Jan 2025) EndedAt: 2025-01-29 20:19:24 -0000 (Wed, 29 Jan 2025) EllapsedTime: 43.4 seconds RetCode: 0 Status: OK