Package: MWASTools Version: 1.31.0 Command: /Library/Frameworks/R.framework/Resources/bin/R CMD build --keep-empty-dirs --no-resave-data MWASTools StartedAt: 2025-02-09 17:41:53 -0500 (Sun, 09 Feb 2025) EndedAt: 2025-02-09 17:43:10 -0500 (Sun, 09 Feb 2025) EllapsedTime: 76.5 seconds RetCode: 0 Status: OK PackageFile: MWASTools_1.31.0.tar.gz PackageFileSize: 2.106 MiB