Package: MWASTools Version: 1.31.0 Command: /Library/Frameworks/R.framework/Resources/bin/R CMD check --install=check:MWASTools.install-out.txt --library=/Library/Frameworks/R.framework/Resources/library --no-vignettes --timings MWASTools_1.31.0.tar.gz StartedAt: 2025-02-12 22:02:29 -0500 (Wed, 12 Feb 2025) EndedAt: 2025-02-12 22:06:48 -0500 (Wed, 12 Feb 2025) EllapsedTime: 259.5 seconds RetCode: 0 Status: OK CheckDir: MWASTools.Rcheck Warnings: 0