Package: MWASTools Version: 1.31.0 Command: /Library/Frameworks/R.framework/Resources/bin/R CMD INSTALL MWASTools StartedAt: 2025-02-09 15:33:34 -0500 (Sun, 09 Feb 2025) EndedAt: 2025-02-09 15:34:15 -0500 (Sun, 09 Feb 2025) EllapsedTime: 41.4 seconds RetCode: 0 Status: OK