Package: MWASTools Version: 1.31.0 Command: /home/biocbuild/bbs-3.21-bioc/R/bin/R CMD check --install=check:MWASTools.install-out.txt --library=/home/biocbuild/bbs-3.21-bioc/R/site-library --timings MWASTools_1.31.0.tar.gz StartedAt: 2025-02-05 00:48:40 -0500 (Wed, 05 Feb 2025) EndedAt: 2025-02-05 00:53:09 -0500 (Wed, 05 Feb 2025) EllapsedTime: 268.6 seconds RetCode: 0 Status: OK CheckDir: MWASTools.Rcheck Warnings: 0