Package: MWASTools Version: 1.31.0 Command: /home/biocbuild/bbs-3.21-bioc/R/bin/R CMD INSTALL MWASTools StartedAt: 2025-02-09 15:24:33 -0500 (Sun, 09 Feb 2025) EndedAt: 2025-02-09 15:25:04 -0500 (Sun, 09 Feb 2025) EllapsedTime: 30.6 seconds RetCode: 0 Status: OK