Package: MWASTools Version: 1.31.0 Command: rm -rf MWASTools.buildbin-libdir && mkdir MWASTools.buildbin-libdir && E:\biocbuild\bbs-3.21-bioc\R\bin\R.exe CMD INSTALL --build --library=MWASTools.buildbin-libdir MWASTools_1.31.0.tar.gz StartedAt: 2025-02-10 08:15:54 -0500 (Mon, 10 Feb 2025) EndedAt: 2025-02-10 08:16:47 -0500 (Mon, 10 Feb 2025) EllapsedTime: 52.7 seconds RetCode: 0 Status: OK PackageFile: MWASTools_1.31.0.zip PackageFileSize: 1.565 MiB