Package: MWASTools Version: 1.31.0 Command: E:\biocbuild\bbs-3.21-bioc\R\bin\R.exe CMD check --no-multiarch --install=check:MWASTools.install-out.txt --library=E:\biocbuild\bbs-3.21-bioc\R\library --no-vignettes --timings MWASTools_1.31.0.tar.gz StartedAt: 2025-02-10 03:29:18 -0500 (Mon, 10 Feb 2025) EndedAt: 2025-02-10 03:34:01 -0500 (Mon, 10 Feb 2025) EllapsedTime: 282.9 seconds RetCode: 0 Status: OK CheckDir: MWASTools.Rcheck Warnings: 0