Package: Maaslin2 Version: 1.21.0 Command: /home/biocbuild/bbs-3.21-bioc/R/bin/R CMD check --install=check:Maaslin2.install-out.txt --library=/home/biocbuild/bbs-3.21-bioc/R/site-library --timings Maaslin2_1.21.0.tar.gz StartedAt: 2025-02-09 23:42:21 -0500 (Sun, 09 Feb 2025) EndedAt: 2025-02-09 23:46:33 -0500 (Sun, 09 Feb 2025) EllapsedTime: 252.3 seconds RetCode: 0 Status: OK CheckDir: Maaslin2.Rcheck Warnings: 0