Package: Maaslin2 Version: 1.21.0 Command: /home/biocbuild/bbs-3.21-bioc/R/bin/R CMD INSTALL Maaslin2 StartedAt: 2025-02-09 15:14:00 -0500 (Sun, 09 Feb 2025) EndedAt: 2025-02-09 15:14:07 -0500 (Sun, 09 Feb 2025) EllapsedTime: 7.6 seconds RetCode: 0 Status: OK