Package: Macarron Version: 1.11.0 Command: rm -rf Macarron.buildbin-libdir && mkdir Macarron.buildbin-libdir && /Users/biocbuild/BBS/utils/build-universal.sh Macarron_1.11.0.tar.gz /Library/Frameworks/R.framework/Resources/bin/R Macarron.buildbin-libdir StartedAt: 2025-02-04 22:21:20 -0500 (Tue, 04 Feb 2025) EndedAt: 2025-02-04 22:21:29 -0500 (Tue, 04 Feb 2025) EllapsedTime: 9.2 seconds RetCode: 0 Status: OK PackageFile: Macarron_1.11.0.tgz PackageFileSize: 655.8 KiB