Package: Macarron Version: 1.11.0 Command: /home/biocbuild/R/R/bin/R CMD build --keep-empty-dirs --no-resave-data Macarron StartedAt: 2025-01-28 23:57:45 -0000 (Tue, 28 Jan 2025) EndedAt: 2025-01-29 00:04:22 -0000 (Wed, 29 Jan 2025) EllapsedTime: 397.1 seconds RetCode: 0 Status: OK PackageFile: Macarron_1.11.0.tar.gz PackageFileSize: 659 KiB