Package: Macarron Version: 1.11.0 Command: /Library/Frameworks/R.framework/Resources/bin/R CMD build --keep-empty-dirs --no-resave-data Macarron StartedAt: 2025-02-03 17:16:31 -0500 (Mon, 03 Feb 2025) EndedAt: 2025-02-03 17:21:31 -0500 (Mon, 03 Feb 2025) EllapsedTime: 300.8 seconds RetCode: 0 Status: OK PackageFile: Macarron_1.11.0.tar.gz PackageFileSize: 591.1 KiB