Package: Macarron Version: 1.11.0 Command: /Library/Frameworks/R.framework/Resources/bin/R CMD check --install=check:Macarron.install-out.txt --library=/Library/Frameworks/R.framework/Resources/library --no-vignettes --timings Macarron_1.11.0.tar.gz StartedAt: 2025-02-09 21:37:46 -0500 (Sun, 09 Feb 2025) EndedAt: 2025-02-09 21:53:57 -0500 (Sun, 09 Feb 2025) EllapsedTime: 971.9 seconds RetCode: 0 Status: WARNINGS CheckDir: Macarron.Rcheck Warnings: 2