Package: Macarron Version: 1.11.0 Command: /Library/Frameworks/R.framework/Resources/bin/R CMD INSTALL Macarron StartedAt: 2025-02-09 15:36:32 -0500 (Sun, 09 Feb 2025) EndedAt: 2025-02-09 15:37:00 -0500 (Sun, 09 Feb 2025) EllapsedTime: 27.9 seconds RetCode: 0 Status: OK