Package: Macarron Version: 1.11.0 Command: /home/biocbuild/bbs-3.21-bioc/R/bin/R CMD build --keep-empty-dirs --no-resave-data Macarron StartedAt: 2025-02-09 17:53:58 -0500 (Sun, 09 Feb 2025) EndedAt: 2025-02-09 17:58:31 -0500 (Sun, 09 Feb 2025) EllapsedTime: 273.3 seconds RetCode: 0 Status: OK PackageFile: Macarron_1.11.0.tar.gz PackageFileSize: 591.3 KiB