Package: Macarron Version: 1.11.0 Command: /home/biocbuild/bbs-3.21-bioc/R/bin/R CMD check --install=check:Macarron.install-out.txt --library=/home/biocbuild/bbs-3.21-bioc/R/site-library --timings Macarron_1.11.0.tar.gz StartedAt: 2025-02-09 23:42:28 -0500 (Sun, 09 Feb 2025) EndedAt: 2025-02-10 00:01:54 -0500 (Mon, 10 Feb 2025) EllapsedTime: 1166.5 seconds RetCode: 1 Status: ERROR CheckDir: Macarron.Rcheck Warnings: NA