Package: Macarron Version: 1.11.0 Command: E:\biocbuild\bbs-3.21-bioc\R\bin\R.exe CMD check --no-multiarch --install=check:Macarron.install-out.txt --library=E:\biocbuild\bbs-3.21-bioc\R\library --no-vignettes --timings Macarron_1.11.0.tar.gz StartedAt: 2025-02-10 02:28:23 -0500 (Mon, 10 Feb 2025) EndedAt: 2025-02-10 02:48:27 -0500 (Mon, 10 Feb 2025) EllapsedTime: 1203.8 seconds RetCode: 0 Status: WARNINGS CheckDir: Macarron.Rcheck Warnings: 2